BEGIN:VCALENDAR
VERSION:2.0
PRODID:-//Real Chess Club - ECPv6.15.20//NONSGML v1.0//EN
CALSCALE:GREGORIAN
METHOD:PUBLISH
X-WR-CALNAME:Real Chess Club
X-ORIGINAL-URL:https://realchessclub.com
X-WR-CALDESC:Eventos para Real Chess Club
REFRESH-INTERVAL;VALUE=DURATION:PT1H
X-Robots-Tag:noindex
X-PUBLISHED-TTL:PT1H
BEGIN:VTIMEZONE
TZID:UTC
BEGIN:STANDARD
TZOFFSETFROM:+0000
TZOFFSETTO:+0000
TZNAME:UTC
DTSTART:20230101T000000
END:STANDARD
END:VTIMEZONE
BEGIN:VTIMEZONE
TZID:America/New_York
BEGIN:DAYLIGHT
TZOFFSETFROM:-0500
TZOFFSETTO:-0400
TZNAME:EDT
DTSTART:20220313T070000
END:DAYLIGHT
BEGIN:STANDARD
TZOFFSETFROM:-0400
TZOFFSETTO:-0500
TZNAME:EST
DTSTART:20221106T060000
END:STANDARD
BEGIN:DAYLIGHT
TZOFFSETFROM:-0500
TZOFFSETTO:-0400
TZNAME:EDT
DTSTART:20230312T070000
END:DAYLIGHT
BEGIN:STANDARD
TZOFFSETFROM:-0400
TZOFFSETTO:-0500
TZNAME:EST
DTSTART:20231105T060000
END:STANDARD
BEGIN:DAYLIGHT
TZOFFSETFROM:-0500
TZOFFSETTO:-0400
TZNAME:EDT
DTSTART:20240310T070000
END:DAYLIGHT
BEGIN:STANDARD
TZOFFSETFROM:-0400
TZOFFSETTO:-0500
TZNAME:EST
DTSTART:20241103T060000
END:STANDARD
END:VTIMEZONE
BEGIN:VEVENT
DTSTART;TZID=UTC:20250206T130000
DTEND;TZID=UTC:20250209T170000
DTSTAMP:20260420T090803
CREATED:20250110T064417Z
LAST-MODIFIED:20250313T215653Z
UID:137-1738846800-1739120400@realchessclub.com
SUMMARY:Campeonato Regional Juvenil del Norte 2025 IRT
DESCRIPTION:El Campeonato Regional Juvenil del Norte 2025 IRT es una competencia clave para las jóvenes promesas del ajedrez en la región. Organizado por la FDPA y Real Chess Club\, este evento reunirá a los mejores talentos de las categorías Sub-6\, Sub-8\, Sub-10\, Sub-12\, Sub-14\, Sub-16 y Sub-18\, quienes competirán en ajedrez clásico\, rápido y blitz. \nMás que un torneo\, este evento es clasificatorio para el Nacional Juvenil 2025 y el Panamericano de la Juventud – Perú 2025\, brindando a los jugadores la oportunidad de medirse en escenarios de alto nivel. \nNo pierdas la oportunidad de ser parte de esta emocionante competencia y demostrar tu talento en el tablero.
URL:https://realchessclub.com/event/green-thumb-gathering-community-gardening-day/
CATEGORIES:Community
ATTACH;FMTTYPE=image/jpeg:https://realchessclub.com/wp-content/uploads/2025/01/Screenshot_2.jpg
END:VEVENT
BEGIN:VEVENT
DTSTART;TZID=UTC:20240112T200000
DTEND;TZID=UTC:20240112T215000
DTSTAMP:20260420T090803
CREATED:20240112T064417Z
LAST-MODIFIED:20250313T215601Z
UID:135-1705089600-1705096200@realchessclub.com
SUMMARY:Literatura & Ajedrez: Poesía\, Narrativa y Estrategia
DESCRIPTION:El ajedrez y la literatura se unen en un evento único donde la estrategia\, la poesía y la narrativa convergen en el tablero. En esta sesión especial\, el destacado escritor Ray Paz Quesquén\, licenciado en educación\, lengua y literatura\, compartirá su visión sobre cómo el ajedrez y la literatura se entrelazan en la creatividad\, el pensamiento estratégico y la expresión artística. \nRay Paz Quesquén ha publicado 6 libros y es codirector del «Festival de poesía en Chepén»\, consolidándose como una figura clave en la escena literaria. \nAcompáñanos en una noche de reflexión\, creatividad y estrategia\, donde el juego de reyes se encuentra con el arte de la palabra.
URL:https://realchessclub.com/event/tech-together-community-led-technology-workshop/
ATTACH;FMTTYPE=image/jpeg:https://realchessclub.com/wp-content/uploads/2025/02/Screenshot_1.jpg
END:VEVENT
BEGIN:VEVENT
DTSTART;TZID=America/New_York:20230929T130000
DTEND;TZID=America/New_York:20230929T130000
DTSTAMP:20260420T090803
CREATED:20230227T064417Z
LAST-MODIFIED:20250618T051229Z
UID:138-1695992400-1695992400@realchessclub.com
SUMMARY:II IRT José Idrogo Hidalgo In Memoriam "El Árbitro de Trujillo"
DESCRIPTION:El II IRT José Idrogo Hidalgo In Memoriam rinde homenaje a uno de los árbitros más emblemáticos del ajedrez en Trujillo. En este torneo internacional de ranking FIDE\, los jugadores compitieron en un evento de alto nivel\, consolidando el legado del Maestro Idrogo. La jornada contó con emocionantes partidas\, análisis de expertos y un ambiente lleno de estrategia y pasión por el ajedrez.
URL:https://realchessclub.com/event/harmony-in-the-park-a-community-music-and-arts-festival/
CATEGORIES:Community,Festival
ATTACH;FMTTYPE=image/jpeg:https://realchessclub.com/wp-content/uploads/2025/02/asdfasdfdsaf-1024x768-1.jpg
END:VEVENT
END:VCALENDAR